BEGIN:VCALENDAR
VERSION:2.0
PRODID:-//Beacon Christian School - ECPv6.15.20//NONSGML v1.0//EN
CALSCALE:GREGORIAN
METHOD:PUBLISH
X-WR-CALNAME:Beacon Christian School
X-ORIGINAL-URL:https://beacon-christian.org
X-WR-CALDESC:Events for Beacon Christian School
REFRESH-INTERVAL;VALUE=DURATION:PT1H
X-Robots-Tag:noindex
X-PUBLISHED-TTL:PT1H
BEGIN:VTIMEZONE
TZID:America/Los_Angeles
BEGIN:DAYLIGHT
TZOFFSETFROM:-0800
TZOFFSETTO:-0700
TZNAME:PDT
DTSTART:20220313T100000
END:DAYLIGHT
BEGIN:STANDARD
TZOFFSETFROM:-0700
TZOFFSETTO:-0800
TZNAME:PST
DTSTART:20221106T090000
END:STANDARD
BEGIN:DAYLIGHT
TZOFFSETFROM:-0800
TZOFFSETTO:-0700
TZNAME:PDT
DTSTART:20230312T100000
END:DAYLIGHT
BEGIN:STANDARD
TZOFFSETFROM:-0700
TZOFFSETTO:-0800
TZNAME:PST
DTSTART:20231105T090000
END:STANDARD
BEGIN:DAYLIGHT
TZOFFSETFROM:-0800
TZOFFSETTO:-0700
TZNAME:PDT
DTSTART:20240310T100000
END:DAYLIGHT
BEGIN:STANDARD
TZOFFSETFROM:-0700
TZOFFSETTO:-0800
TZNAME:PST
DTSTART:20241103T090000
END:STANDARD
END:VTIMEZONE
BEGIN:VEVENT
DTSTART;TZID=America/Los_Angeles:20230828T070000
DTEND;TZID=America/Los_Angeles:20230828T150000
DTSTAMP:20260423T022132
CREATED:20230716T040647Z
LAST-MODIFIED:20230716T040647Z
UID:1457-1693206000-1693234800@beacon-christian.org
SUMMARY:Garnet mine field trip for Grades 3-8 (leave school at 7:15 am)
DESCRIPTION:
URL:https://beacon-christian.org/event/garnet-mine-field-trip-grades-3-8-leave-school-715/
END:VEVENT
END:VCALENDAR