BEGIN:VCALENDAR
VERSION:2.0
PRODID:-//Beacon Christian School - ECPv6.15.20//NONSGML v1.0//EN
CALSCALE:GREGORIAN
METHOD:PUBLISH
X-ORIGINAL-URL:https://beacon-christian.org
X-WR-CALDESC:Events for Beacon Christian School
REFRESH-INTERVAL;VALUE=DURATION:PT1H
X-Robots-Tag:noindex
X-PUBLISHED-TTL:PT1H
BEGIN:VTIMEZONE
TZID:America/Los_Angeles
BEGIN:DAYLIGHT
TZOFFSETFROM:-0800
TZOFFSETTO:-0700
TZNAME:PDT
DTSTART:20170312T100000
END:DAYLIGHT
BEGIN:STANDARD
TZOFFSETFROM:-0700
TZOFFSETTO:-0800
TZNAME:PST
DTSTART:20171105T090000
END:STANDARD
BEGIN:DAYLIGHT
TZOFFSETFROM:-0800
TZOFFSETTO:-0700
TZNAME:PDT
DTSTART:20180311T100000
END:DAYLIGHT
BEGIN:STANDARD
TZOFFSETFROM:-0700
TZOFFSETTO:-0800
TZNAME:PST
DTSTART:20181104T090000
END:STANDARD
BEGIN:DAYLIGHT
TZOFFSETFROM:-0800
TZOFFSETTO:-0700
TZNAME:PDT
DTSTART:20190310T100000
END:DAYLIGHT
BEGIN:STANDARD
TZOFFSETFROM:-0700
TZOFFSETTO:-0800
TZNAME:PST
DTSTART:20191103T090000
END:STANDARD
BEGIN:DAYLIGHT
TZOFFSETFROM:-0800
TZOFFSETTO:-0700
TZNAME:PDT
DTSTART:20200308T100000
END:DAYLIGHT
BEGIN:STANDARD
TZOFFSETFROM:-0700
TZOFFSETTO:-0800
TZNAME:PST
DTSTART:20201101T090000
END:STANDARD
END:VTIMEZONE
BEGIN:VEVENT
DTSTART;TZID=America/Los_Angeles:20190305T130000
DTEND;TZID=America/Los_Angeles:20190305T150000
DTSTAMP:20260419T104816
CREATED:20180918T215325Z
LAST-MODIFIED:20180918T215325Z
UID:448-1551790800-1551798000@beacon-christian.org
SUMMARY:Food Bank (Grades 3-5)
DESCRIPTION:
URL:https://beacon-christian.org/event/food-bank-grades-3-5-3/
CATEGORIES:School Schedule
END:VEVENT
BEGIN:VEVENT
DTSTART;VALUE=DATE:20190304
DTEND;VALUE=DATE:20190305
DTSTAMP:20260419T104816
CREATED:20180918T215157Z
LAST-MODIFIED:20180918T215157Z
UID:446-1551657600-1551743999@beacon-christian.org
SUMMARY:Teacher In-service
DESCRIPTION:No school
URL:https://beacon-christian.org/event/teacher-in-service/
CATEGORIES:School Schedule
END:VEVENT
BEGIN:VEVENT
DTSTART;TZID=America/Los_Angeles:20190226T123000
DTEND;TZID=America/Los_Angeles:20190226T150000
DTSTAMP:20260419T104816
CREATED:20180918T214703Z
LAST-MODIFIED:20180918T215046Z
UID:439-1551184200-1551193200@beacon-christian.org
SUMMARY:Visitation/Registration Day (Kindergarten and 1st Grade)
DESCRIPTION:
URL:https://beacon-christian.org/event/registration-day-kindergarten-1st-grade/
CATEGORIES:School Schedule
END:VEVENT
BEGIN:VEVENT
DTSTART;VALUE=DATE:20190224
DTEND;VALUE=DATE:20190225
DTSTAMP:20260419T104816
CREATED:20180918T214956Z
LAST-MODIFIED:20180918T214956Z
UID:443-1550966400-1551052799@beacon-christian.org
SUMMARY:Lego Robotics Challenge
DESCRIPTION:Walla Walla University
URL:https://beacon-christian.org/event/lego-robotics-challenge/
CATEGORIES:School Schedule
END:VEVENT
BEGIN:VEVENT
DTSTART;VALUE=DATE:20190218
DTEND;VALUE=DATE:20190219
DTSTAMP:20260419T104816
CREATED:20180918T214350Z
LAST-MODIFIED:20180918T214350Z
UID:437-1550448000-1550534399@beacon-christian.org
SUMMARY:Presidents' Day
DESCRIPTION:No school
URL:https://beacon-christian.org/event/presidents-day/
CATEGORIES:School Schedule
END:VEVENT
BEGIN:VEVENT
DTSTART;VALUE=DATE:20190207
DTEND;VALUE=DATE:20190208
DTSTAMP:20260419T104816
CREATED:20180918T214153Z
LAST-MODIFIED:20180918T214153Z
UID:435-1549497600-1549583999@beacon-christian.org
SUMMARY:Winter Sports Day
DESCRIPTION:
URL:https://beacon-christian.org/event/winter-sports-day/
CATEGORIES:School Schedule
END:VEVENT
BEGIN:VEVENT
DTSTART;TZID=America/Los_Angeles:20190205T130000
DTEND;TZID=America/Los_Angeles:20190205T150000
DTSTAMP:20260419T104816
CREATED:20180918T214046Z
LAST-MODIFIED:20180918T214046Z
UID:433-1549371600-1549378800@beacon-christian.org
SUMMARY:Food Bank (Grades 6-8)
DESCRIPTION:
URL:https://beacon-christian.org/event/food-bank-grades-6-8-3/
CATEGORIES:School Schedule
END:VEVENT
BEGIN:VEVENT
DTSTART;VALUE=DATE:20190131
DTEND;VALUE=DATE:20190203
DTSTAMP:20260419T104816
CREATED:20180918T213905Z
LAST-MODIFIED:20180918T213905Z
UID:431-1548892800-1549151999@beacon-christian.org
SUMMARY:Music Clinic
DESCRIPTION:Upper Columbia Academy
URL:https://beacon-christian.org/event/music-clinic/
CATEGORIES:School Schedule
END:VEVENT
BEGIN:VEVENT
DTSTART;TZID=America/Los_Angeles:20190130T080000
DTEND;TZID=America/Los_Angeles:20190130T150000
DTSTAMP:20260419T104816
CREATED:20180918T213728Z
LAST-MODIFIED:20180918T213728Z
UID:429-1548835200-1548860400@beacon-christian.org
SUMMARY:Parent/Teacher/Student Conferences
DESCRIPTION:Parents\, sign up in office.  Students\, please attend with your parent(s).  No school this day.
URL:https://beacon-christian.org/event/parent-teacher-student-conferences-2/
CATEGORIES:School Schedule
END:VEVENT
BEGIN:VEVENT
DTSTART;VALUE=DATE:20190124
DTEND;VALUE=DATE:20190125
DTSTAMP:20260419T104816
CREATED:20180918T213040Z
LAST-MODIFIED:20180918T213138Z
UID:419-1548288000-1548374399@beacon-christian.org
SUMMARY:Winter Sports Day
DESCRIPTION:
URL:https://beacon-christian.org/event/ski-day-3/
CATEGORIES:School Schedule
END:VEVENT
BEGIN:VEVENT
DTSTART;VALUE=DATE:20190121
DTEND;VALUE=DATE:20190122
DTSTAMP:20260419T104816
CREATED:20180918T213326Z
LAST-MODIFIED:20180918T213358Z
UID:424-1548028800-1548115199@beacon-christian.org
SUMMARY:Martin Luther King\, Jr Holiday
DESCRIPTION:No school
URL:https://beacon-christian.org/event/martin-luther-king-jr-holiday/
CATEGORIES:School Schedule
END:VEVENT
BEGIN:VEVENT
DTSTART;VALUE=DATE:20190117
DTEND;VALUE=DATE:20190118
DTSTAMP:20260419T104816
CREATED:20180918T213012Z
LAST-MODIFIED:20180918T213158Z
UID:417-1547683200-1547769599@beacon-christian.org
SUMMARY:Winter Sports Day
DESCRIPTION:
URL:https://beacon-christian.org/event/ski-day-2/
CATEGORIES:School Schedule
END:VEVENT
BEGIN:VEVENT
DTSTART;VALUE=DATE:20190110
DTEND;VALUE=DATE:20190111
DTSTAMP:20260419T104816
CREATED:20180918T212946Z
LAST-MODIFIED:20180918T213222Z
UID:415-1547078400-1547164799@beacon-christian.org
SUMMARY:Winter Sports Day
DESCRIPTION:
URL:https://beacon-christian.org/event/ski-day/
CATEGORIES:School Schedule
END:VEVENT
BEGIN:VEVENT
DTSTART;TZID=America/Los_Angeles:20190108T130000
DTEND;TZID=America/Los_Angeles:20190108T150000
DTSTAMP:20260419T104816
CREATED:20180918T212829Z
LAST-MODIFIED:20180918T212829Z
UID:413-1546952400-1546959600@beacon-christian.org
SUMMARY:Food Bank (Grades 3-5)
DESCRIPTION:
URL:https://beacon-christian.org/event/food-bank-grades-3-5-2/
CATEGORIES:School Schedule
END:VEVENT
BEGIN:VEVENT
DTSTART;TZID=America/Los_Angeles:20181219T080000
DTEND;TZID=America/Los_Angeles:20181219T120000
DTSTAMP:20260419T104816
CREATED:20180918T212557Z
LAST-MODIFIED:20180918T212557Z
UID:409-1545206400-1545220800@beacon-christian.org
SUMMARY:Minimum 1/2 Day
DESCRIPTION:
URL:https://beacon-christian.org/event/minimum-1-2-day-3/
CATEGORIES:School Schedule
END:VEVENT
BEGIN:VEVENT
DTSTART;TZID=America/Los_Angeles:20181218T180000
DTEND;TZID=America/Los_Angeles:20181218T200000
DTSTAMP:20260419T104816
CREATED:20180918T212453Z
LAST-MODIFIED:20180918T212453Z
UID:407-1545156000-1545163200@beacon-christian.org
SUMMARY:Christmas Program
DESCRIPTION:Beacon gymnasium
URL:https://beacon-christian.org/event/christmas-program/
CATEGORIES:School Schedule
END:VEVENT
BEGIN:VEVENT
DTSTART;VALUE=DATE:20181121
DTEND;VALUE=DATE:20181124
DTSTAMP:20260419T104816
CREATED:20180918T211603Z
LAST-MODIFIED:20180918T211603Z
UID:401-1542758400-1543017599@beacon-christian.org
SUMMARY:Thanksgiving Vacation
DESCRIPTION:
URL:https://beacon-christian.org/event/thanksgiving-vacation/
CATEGORIES:School Schedule
END:VEVENT
BEGIN:VEVENT
DTSTART;TZID=America/Los_Angeles:20181120T080000
DTEND;TZID=America/Los_Angeles:20181120T120000
DTSTAMP:20260419T104816
CREATED:20180918T210837Z
LAST-MODIFIED:20180918T210837Z
UID:397-1542700800-1542715200@beacon-christian.org
SUMMARY:Minimum 1/2 Day
DESCRIPTION:
URL:https://beacon-christian.org/event/minimum-1-2-day-2/
CATEGORIES:School Schedule
END:VEVENT
BEGIN:VEVENT
DTSTART;TZID=America/Los_Angeles:20181111T170000
DTEND;TZID=America/Los_Angeles:20181111T180000
DTSTAMP:20260419T104816
CREATED:20180918T210714Z
LAST-MODIFIED:20180918T210714Z
UID:395-1541955600-1541959200@beacon-christian.org
SUMMARY:ABC Book Sale
DESCRIPTION:Beacon gymnasium
URL:https://beacon-christian.org/event/abc-book-sale/
CATEGORIES:School Schedule
END:VEVENT
BEGIN:VEVENT
DTSTART;VALUE=DATE:20181107
DTEND;VALUE=DATE:20181108
DTSTAMP:20260419T104816
CREATED:20180918T210438Z
LAST-MODIFIED:20180918T211641Z
UID:392-1541548800-1541635199@beacon-christian.org
SUMMARY:Parent/Teacher/Student Conferences
DESCRIPTION:Parents\, please sign up in office. \nStudents\, please attend the conference with your parent(s). \nNo school this day!
URL:https://beacon-christian.org/event/parent-teacher-student-conferences/
CATEGORIES:School Schedule
END:VEVENT
BEGIN:VEVENT
DTSTART;TZID=America/Los_Angeles:20181106T130000
DTEND;TZID=America/Los_Angeles:20181106T150000
DTSTAMP:20260419T104816
CREATED:20180918T204258Z
LAST-MODIFIED:20180918T204258Z
UID:386-1541509200-1541516400@beacon-christian.org
SUMMARY:Food Bank (Grades 3-5)
DESCRIPTION:
URL:https://beacon-christian.org/event/food-bank-grades-3-5/
CATEGORIES:School Schedule
END:VEVENT
BEGIN:VEVENT
DTSTART;TZID=America/Los_Angeles:20181027T180000
DTEND;TZID=America/Los_Angeles:20181027T210000
DTSTAMP:20260419T104816
CREATED:20180918T203646Z
LAST-MODIFIED:20180918T203646Z
UID:384-1540663200-1540674000@beacon-christian.org
SUMMARY:Fall Harvest Festival
DESCRIPTION:Beacon gymnasium
URL:https://beacon-christian.org/event/fall-harvest-festival/
CATEGORIES:School Schedule
END:VEVENT
BEGIN:VEVENT
DTSTART;TZID=America/Los_Angeles:20181004T080000
DTEND;TZID=America/Los_Angeles:20181004T120000
DTSTAMP:20260419T104816
CREATED:20180918T205345Z
LAST-MODIFIED:20180918T205426Z
UID:388-1538640000-1538654400@beacon-christian.org
SUMMARY:Minimum 1/2 Day
DESCRIPTION:Teacher professional development
URL:https://beacon-christian.org/event/minimum-1-2-day/
CATEGORIES:School Schedule
END:VEVENT
BEGIN:VEVENT
DTSTART;TZID=America/Los_Angeles:20181002T130000
DTEND;TZID=America/Los_Angeles:20181002T150000
DTSTAMP:20260419T104816
CREATED:20180918T181751Z
LAST-MODIFIED:20180918T181751Z
UID:374-1538485200-1538492400@beacon-christian.org
SUMMARY:Food Bank Grades 6-8
DESCRIPTION:
URL:https://beacon-christian.org/event/food-bank-grades-6-8/
CATEGORIES:School Schedule
END:VEVENT
BEGIN:VEVENT
DTSTART;TZID=America/Los_Angeles:20180924T083000
DTEND;TZID=America/Los_Angeles:20181003T113000
DTSTAMP:20260419T104816
CREATED:20180918T173636Z
LAST-MODIFIED:20180918T204756Z
UID:364-1537777800-1538566200@beacon-christian.org
SUMMARY:ITBS Achievement Testing
DESCRIPTION:Students need to be well-rested and have a nourishing breakfast.
URL:https://beacon-christian.org/event/itbs-achievement-testing/
CATEGORIES:School Schedule
END:VEVENT
BEGIN:VEVENT
DTSTART;TZID=America/Los_Angeles:20180606T190000
DTEND;TZID=America/Los_Angeles:20180606T210000
DTSTAMP:20260419T104816
CREATED:20180412T222530Z
LAST-MODIFIED:20180412T222530Z
UID:269-1528311600-1528318800@beacon-christian.org
SUMMARY:8th Grade Graduation
DESCRIPTION:
URL:https://beacon-christian.org/event/8th-grade-graduation/
CATEGORIES:School Schedule
END:VEVENT
BEGIN:VEVENT
DTSTART;TZID=America/Los_Angeles:20180606T080000
DTEND;TZID=America/Los_Angeles:20180606T120000
DTSTAMP:20260419T104816
CREATED:20180412T222453Z
LAST-MODIFIED:20180412T222453Z
UID:267-1528272000-1528286400@beacon-christian.org
SUMMARY:Minimum Day
DESCRIPTION:
URL:https://beacon-christian.org/event/minimum-day/
CATEGORIES:School Schedule
END:VEVENT
BEGIN:VEVENT
DTSTART;VALUE=DATE:20180606
DTEND;VALUE=DATE:20180607
DTSTAMP:20260419T104816
CREATED:20180412T222420Z
LAST-MODIFIED:20180412T222552Z
UID:265-1528243200-1528329599@beacon-christian.org
SUMMARY:Last Day of School
DESCRIPTION:
URL:https://beacon-christian.org/event/last-day-school/
CATEGORIES:School Schedule
END:VEVENT
BEGIN:VEVENT
DTSTART;TZID=America/Los_Angeles:20180605T080000
DTEND;TZID=America/Los_Angeles:20180605T120000
DTSTAMP:20260419T104816
CREATED:20180502T192947Z
LAST-MODIFIED:20180502T193014Z
UID:297-1528185600-1528200000@beacon-christian.org
SUMMARY:Minimum Day
DESCRIPTION:
URL:https://beacon-christian.org/event/20180605-minimum-day/
CATEGORIES:School Schedule
END:VEVENT
BEGIN:VEVENT
DTSTART;TZID=America/Los_Angeles:20180531T180000
DTEND;TZID=America/Los_Angeles:20180531T230000
DTSTAMP:20260419T104816
CREATED:20180412T222334Z
LAST-MODIFIED:20180412T222334Z
UID:263-1527789600-1527807600@beacon-christian.org
SUMMARY:Spring Concert/Kindergarten Graduation
DESCRIPTION:
URL:https://beacon-christian.org/event/spring-concert-kindergarten-graduation/
CATEGORIES:School Schedule
END:VEVENT
END:VCALENDAR