BEGIN:VCALENDAR
VERSION:2.0
PRODID:-//Beacon Christian School - ECPv6.15.20//NONSGML v1.0//EN
CALSCALE:GREGORIAN
METHOD:PUBLISH
X-WR-CALNAME:Beacon Christian School
X-ORIGINAL-URL:https://beacon-christian.org
X-WR-CALDESC:Events for Beacon Christian School
REFRESH-INTERVAL;VALUE=DURATION:PT1H
X-Robots-Tag:noindex
X-PUBLISHED-TTL:PT1H
BEGIN:VTIMEZONE
TZID:America/Los_Angeles
BEGIN:DAYLIGHT
TZOFFSETFROM:-0800
TZOFFSETTO:-0700
TZNAME:PDT
DTSTART:20170312T100000
END:DAYLIGHT
BEGIN:STANDARD
TZOFFSETFROM:-0700
TZOFFSETTO:-0800
TZNAME:PST
DTSTART:20171105T090000
END:STANDARD
BEGIN:DAYLIGHT
TZOFFSETFROM:-0800
TZOFFSETTO:-0700
TZNAME:PDT
DTSTART:20180311T100000
END:DAYLIGHT
BEGIN:STANDARD
TZOFFSETFROM:-0700
TZOFFSETTO:-0800
TZNAME:PST
DTSTART:20181104T090000
END:STANDARD
BEGIN:DAYLIGHT
TZOFFSETFROM:-0800
TZOFFSETTO:-0700
TZNAME:PDT
DTSTART:20190310T100000
END:DAYLIGHT
BEGIN:STANDARD
TZOFFSETFROM:-0700
TZOFFSETTO:-0800
TZNAME:PST
DTSTART:20191103T090000
END:STANDARD
END:VTIMEZONE
BEGIN:VEVENT
DTSTART;TZID=America/Los_Angeles:20180530T120000
DTEND;TZID=America/Los_Angeles:20180530T170000
DTSTAMP:20260419T154938
CREATED:20180412T222242Z
LAST-MODIFIED:20180412T222242Z
UID:261-1527681600-1527699600@beacon-christian.org
SUMMARY:100-Mile Club Afternoon Swimming Reward
DESCRIPTION:
URL:https://beacon-christian.org/event/100-mile-club-afternoon-swimming-reward/
CATEGORIES:School Schedule
END:VEVENT
BEGIN:VEVENT
DTSTART;VALUE=DATE:20180528
DTEND;VALUE=DATE:20180529
DTSTAMP:20260419T154938
CREATED:20180412T222148Z
LAST-MODIFIED:20180412T222148Z
UID:259-1527465600-1527551999@beacon-christian.org
SUMMARY:Memorial Day
DESCRIPTION:
URL:https://beacon-christian.org/event/memorial-day/
CATEGORIES:School Schedule
END:VEVENT
BEGIN:VEVENT
DTSTART;VALUE=DATE:20180524
DTEND;VALUE=DATE:20180526
DTSTAMP:20260419T154938
CREATED:20180412T222029Z
LAST-MODIFIED:20180412T222029Z
UID:257-1527120000-1527292799@beacon-christian.org
SUMMARY:Baseball World Series Team Visit & Game
DESCRIPTION:
URL:https://beacon-christian.org/event/baseball-world-series-team-visit-game/
CATEGORIES:School Schedule
END:VEVENT
BEGIN:VEVENT
DTSTART;TZID=America/Los_Angeles:20180523T080000
DTEND;TZID=America/Los_Angeles:20180523T120000
DTSTAMP:20260419T154938
CREATED:20180412T221935Z
LAST-MODIFIED:20180412T221935Z
UID:255-1527062400-1527076800@beacon-christian.org
SUMMARY:Minimum Day (School is out at noon)
DESCRIPTION:
URL:https://beacon-christian.org/event/minimum-day-school-noon/
CATEGORIES:School Schedule
END:VEVENT
BEGIN:VEVENT
DTSTART;VALUE=DATE:20180510
DTEND;VALUE=DATE:20180511
DTSTAMP:20260419T154938
CREATED:20180412T221822Z
LAST-MODIFIED:20180412T221822Z
UID:253-1525910400-1525996799@beacon-christian.org
SUMMARY:Idaho History Rendezvous (Grade 4)
DESCRIPTION:
URL:https://beacon-christian.org/event/idaho-history-rendezvous-grade-4/
CATEGORIES:School Schedule
END:VEVENT
END:VCALENDAR