BEGIN:VCALENDAR
VERSION:2.0
PRODID:-//Beacon Christian School - ECPv6.15.20//NONSGML v1.0//EN
CALSCALE:GREGORIAN
METHOD:PUBLISH
X-WR-CALNAME:Beacon Christian School
X-ORIGINAL-URL:https://beacon-christian.org
X-WR-CALDESC:Events for Beacon Christian School
REFRESH-INTERVAL;VALUE=DURATION:PT1H
X-Robots-Tag:noindex
X-PUBLISHED-TTL:PT1H
BEGIN:VTIMEZONE
TZID:America/Los_Angeles
BEGIN:DAYLIGHT
TZOFFSETFROM:-0800
TZOFFSETTO:-0700
TZNAME:PDT
DTSTART:20180311T100000
END:DAYLIGHT
BEGIN:STANDARD
TZOFFSETFROM:-0700
TZOFFSETTO:-0800
TZNAME:PST
DTSTART:20181104T090000
END:STANDARD
BEGIN:DAYLIGHT
TZOFFSETFROM:-0800
TZOFFSETTO:-0700
TZNAME:PDT
DTSTART:20190310T100000
END:DAYLIGHT
BEGIN:STANDARD
TZOFFSETFROM:-0700
TZOFFSETTO:-0800
TZNAME:PST
DTSTART:20191103T090000
END:STANDARD
BEGIN:DAYLIGHT
TZOFFSETFROM:-0800
TZOFFSETTO:-0700
TZNAME:PDT
DTSTART:20200308T100000
END:DAYLIGHT
BEGIN:STANDARD
TZOFFSETFROM:-0700
TZOFFSETTO:-0800
TZNAME:PST
DTSTART:20201101T090000
END:STANDARD
END:VTIMEZONE
BEGIN:VEVENT
DTSTART;TZID=America/Los_Angeles:20191002T080000
DTEND;TZID=America/Los_Angeles:20191002T120000
DTSTAMP:20260425T071154
CREATED:20190919T171834Z
LAST-MODIFIED:20190919T171834Z
UID:522-1570003200-1570017600@beacon-christian.org
SUMMARY:Minimum day
DESCRIPTION:
URL:https://beacon-christian.org/event/minimum-day-2/
END:VEVENT
BEGIN:VEVENT
DTSTART;TZID=America/Los_Angeles:20191010T133000
DTEND;TZID=America/Los_Angeles:20191010T150000
DTSTAMP:20260425T071154
CREATED:20191010T163007Z
LAST-MODIFIED:20191010T163007Z
UID:547-1570714200-1570719600@beacon-christian.org
SUMMARY:Food Bank (Grades 3-5)
DESCRIPTION:
URL:https://beacon-christian.org/event/food-bank-grades-3-5-5/
END:VEVENT
BEGIN:VEVENT
DTSTART;TZID=America/Los_Angeles:20191021T080000
DTEND;TZID=America/Los_Angeles:20191025T090000
DTSTAMP:20260425T071154
CREATED:20190919T171948Z
LAST-MODIFIED:20190919T171948Z
UID:524-1571644800-1571994000@beacon-christian.org
SUMMARY:Fall Week of Prayer
DESCRIPTION:
URL:https://beacon-christian.org/event/fall-week-prayer-2/
END:VEVENT
BEGIN:VEVENT
DTSTART;TZID=America/Los_Angeles:20191021T130000
DTEND;TZID=America/Los_Angeles:20191021T150000
DTSTAMP:20260425T071154
CREATED:20191010T181610Z
LAST-MODIFIED:20191010T181610Z
UID:671-1571662800-1571670000@beacon-christian.org
SUMMARY:Men's basketball game
DESCRIPTION:Lewist-Clark State College
URL:https://beacon-christian.org/event/mens-basketball-game/
END:VEVENT
BEGIN:VEVENT
DTSTART;VALUE=DATE:20191025
DTEND;VALUE=DATE:20191026
DTSTAMP:20260425T071154
CREATED:20191010T162346Z
LAST-MODIFIED:20191010T162356Z
UID:541-1571961600-1572047999@beacon-christian.org
SUMMARY:End of 1st Quarter
DESCRIPTION:
URL:https://beacon-christian.org/event/end-1st-quarter/
END:VEVENT
BEGIN:VEVENT
DTSTART;TZID=America/Los_Angeles:20191026T180000
DTEND;TZID=America/Los_Angeles:20191026T200000
DTSTAMP:20260425T071154
CREATED:20191010T162521Z
LAST-MODIFIED:20191010T162521Z
UID:543-1572112800-1572120000@beacon-christian.org
SUMMARY:Fall Harvest Party
DESCRIPTION:
URL:https://beacon-christian.org/event/fall-harvest-party/
END:VEVENT
BEGIN:VEVENT
DTSTART;TZID=America/Los_Angeles:20191027T173000
DTEND;TZID=America/Los_Angeles:20191027T190000
DTSTAMP:20260425T071154
CREATED:20190919T172318Z
LAST-MODIFIED:20190919T172318Z
UID:526-1572197400-1572202800@beacon-christian.org
SUMMARY:ABC Sale
DESCRIPTION:
URL:https://beacon-christian.org/event/abc-sale/
END:VEVENT
BEGIN:VEVENT
DTSTART;VALUE=DATE:20191028
DTEND;VALUE=DATE:20191029
DTSTAMP:20260425T071154
CREATED:20191010T180147Z
LAST-MODIFIED:20191010T180147Z
UID:662-1572220800-1572307199@beacon-christian.org
SUMMARY:No school (professional development)
DESCRIPTION:
URL:https://beacon-christian.org/event/no-school-professional-development/
END:VEVENT
BEGIN:VEVENT
DTSTART;VALUE=DATE:20191030
DTEND;VALUE=DATE:20191031
DTSTAMP:20260425T071154
CREATED:20190919T172453Z
LAST-MODIFIED:20191010T182313Z
UID:528-1572393600-1572479999@beacon-christian.org
SUMMARY:No school (parent-teacher-student conferences)
DESCRIPTION:
URL:https://beacon-christian.org/event/parent-teacher-student-conferences-no-classes/
END:VEVENT
BEGIN:VEVENT
DTSTART;VALUE=DATE:20191031
DTEND;VALUE=DATE:20191101
DTSTAMP:20260425T071154
CREATED:20190919T172521Z
LAST-MODIFIED:20190919T172521Z
UID:530-1572480000-1572566399@beacon-christian.org
SUMMARY:Technology Fair at UCA
DESCRIPTION:
URL:https://beacon-christian.org/event/technology-fair-uca/
END:VEVENT
END:VCALENDAR