BEGIN:VCALENDAR
VERSION:2.0
PRODID:-//Beacon Christian School - ECPv6.15.20//NONSGML v1.0//EN
CALSCALE:GREGORIAN
METHOD:PUBLISH
X-WR-CALNAME:Beacon Christian School
X-ORIGINAL-URL:https://beacon-christian.org
X-WR-CALDESC:Events for Beacon Christian School
REFRESH-INTERVAL;VALUE=DURATION:PT1H
X-Robots-Tag:noindex
X-PUBLISHED-TTL:PT1H
BEGIN:VTIMEZONE
TZID:America/Los_Angeles
BEGIN:DAYLIGHT
TZOFFSETFROM:-0800
TZOFFSETTO:-0700
TZNAME:PDT
DTSTART:20190310T100000
END:DAYLIGHT
BEGIN:STANDARD
TZOFFSETFROM:-0700
TZOFFSETTO:-0800
TZNAME:PST
DTSTART:20191103T090000
END:STANDARD
BEGIN:DAYLIGHT
TZOFFSETFROM:-0800
TZOFFSETTO:-0700
TZNAME:PDT
DTSTART:20200308T100000
END:DAYLIGHT
BEGIN:STANDARD
TZOFFSETFROM:-0700
TZOFFSETTO:-0800
TZNAME:PST
DTSTART:20201101T090000
END:STANDARD
BEGIN:DAYLIGHT
TZOFFSETFROM:-0800
TZOFFSETTO:-0700
TZNAME:PDT
DTSTART:20210314T100000
END:DAYLIGHT
BEGIN:STANDARD
TZOFFSETFROM:-0700
TZOFFSETTO:-0800
TZNAME:PST
DTSTART:20211107T090000
END:STANDARD
END:VTIMEZONE
BEGIN:VEVENT
DTSTART;TZID=America/Los_Angeles:20200505T133000
DTEND;TZID=America/Los_Angeles:20200505T150000
DTSTAMP:20260422T044049
CREATED:20191010T173551Z
LAST-MODIFIED:20191010T173551Z
UID:637-1588685400-1588690800@beacon-christian.org
SUMMARY:Food Bank (Grades 3-5)
DESCRIPTION:
URL:https://beacon-christian.org/event/food-bank-grades-3-5-9/
END:VEVENT
BEGIN:VEVENT
DTSTART;TZID=America/Los_Angeles:20200506T080000
DTEND;TZID=America/Los_Angeles:20200506T120000
DTSTAMP:20260422T044049
CREATED:20191010T173806Z
LAST-MODIFIED:20191010T182631Z
UID:639-1588752000-1588766400@beacon-christian.org
SUMMARY:Minimum Day (professional development)
DESCRIPTION:
URL:https://beacon-christian.org/event/minimum-day-3/
END:VEVENT
BEGIN:VEVENT
DTSTART;VALUE=DATE:20200514
DTEND;VALUE=DATE:20200515
DTSTAMP:20260422T044049
CREATED:20191010T173909Z
LAST-MODIFIED:20191010T173909Z
UID:641-1589414400-1589500799@beacon-christian.org
SUMMARY:Idaho History Rendezvous
DESCRIPTION:More details to follow.
URL:https://beacon-christian.org/event/idaho-history-rendezvous/
END:VEVENT
BEGIN:VEVENT
DTSTART;TZID=America/Los_Angeles:20200520T123000
DTEND;TZID=America/Los_Angeles:20200520T133000
DTSTAMP:20260422T044049
CREATED:20191010T174023Z
LAST-MODIFIED:20191010T174023Z
UID:643-1589977800-1589981400@beacon-christian.org
SUMMARY:Band
DESCRIPTION:Practice for spring concert
URL:https://beacon-christian.org/event/band-6/
END:VEVENT
BEGIN:VEVENT
DTSTART;TZID=America/Los_Angeles:20200520T180000
DTEND;TZID=America/Los_Angeles:20200520T190000
DTSTAMP:20260422T044049
CREATED:20191010T174601Z
LAST-MODIFIED:20191010T174601Z
UID:645-1589997600-1590001200@beacon-christian.org
SUMMARY:Spring Concert
DESCRIPTION:
URL:https://beacon-christian.org/event/spring-concert/
END:VEVENT
BEGIN:VEVENT
DTSTART;TZID=America/Los_Angeles:20200520T180000
DTEND;TZID=America/Los_Angeles:20200520T190000
DTSTAMP:20260422T044049
CREATED:20191010T182929Z
LAST-MODIFIED:20191010T182929Z
UID:679-1589997600-1590001200@beacon-christian.org
SUMMARY:Kindergarten graduation
DESCRIPTION:
URL:https://beacon-christian.org/event/kindergarten-graduation/
END:VEVENT
BEGIN:VEVENT
DTSTART;VALUE=DATE:20200521
DTEND;VALUE=DATE:20200522
DTSTAMP:20260422T044049
CREATED:20191010T174634Z
LAST-MODIFIED:20191010T174634Z
UID:647-1590019200-1590105599@beacon-christian.org
SUMMARY:NAIA team visits
DESCRIPTION:
URL:https://beacon-christian.org/event/naia-team-visits/
END:VEVENT
BEGIN:VEVENT
DTSTART;TZID=America/Los_Angeles:20200522T083000
DTEND;TZID=America/Los_Angeles:20200522T120000
DTSTAMP:20260422T044049
CREATED:20191010T174722Z
LAST-MODIFIED:20191010T174722Z
UID:649-1590136200-1590148800@beacon-christian.org
SUMMARY:NAIA World Series game
DESCRIPTION:
URL:https://beacon-christian.org/event/naia-world-series-game/
END:VEVENT
BEGIN:VEVENT
DTSTART;VALUE=DATE:20200525
DTEND;VALUE=DATE:20200526
DTSTAMP:20260422T044049
CREATED:20191010T174748Z
LAST-MODIFIED:20191010T174748Z
UID:651-1590364800-1590451199@beacon-christian.org
SUMMARY:No school (Memorial Day)
DESCRIPTION:
URL:https://beacon-christian.org/event/no-school-memorial-day/
END:VEVENT
BEGIN:VEVENT
DTSTART;VALUE=DATE:20200526
DTEND;VALUE=DATE:20200527
DTSTAMP:20260422T044049
CREATED:20191010T174832Z
LAST-MODIFIED:20191010T174832Z
UID:653-1590451200-1590537599@beacon-christian.org
SUMMARY:Garnet Mine Dig
DESCRIPTION:To be determined
URL:https://beacon-christian.org/event/garnet-mine-dig/
END:VEVENT
BEGIN:VEVENT
DTSTART;TZID=America/Los_Angeles:20200527T080000
DTEND;TZID=America/Los_Angeles:20200527T120000
DTSTAMP:20260422T044049
CREATED:20191010T174910Z
LAST-MODIFIED:20191010T174910Z
UID:655-1590566400-1590580800@beacon-christian.org
SUMMARY:Minimum Day
DESCRIPTION:
URL:https://beacon-christian.org/event/minimum-day-4/
END:VEVENT
BEGIN:VEVENT
DTSTART;TZID=America/Los_Angeles:20200527T080000
DTEND;TZID=America/Los_Angeles:20200527T120000
DTSTAMP:20260422T044049
CREATED:20191010T174938Z
LAST-MODIFIED:20191010T174938Z
UID:657-1590566400-1590580800@beacon-christian.org
SUMMARY:Track and Field Day
DESCRIPTION:
URL:https://beacon-christian.org/event/track-field-day-2/
END:VEVENT
BEGIN:VEVENT
DTSTART;VALUE=DATE:20200528
DTEND;VALUE=DATE:20200529
DTSTAMP:20260422T044049
CREATED:20191010T175009Z
LAST-MODIFIED:20191010T175009Z
UID:659-1590624000-1590710399@beacon-christian.org
SUMMARY:Running Club Reward Day
DESCRIPTION:
URL:https://beacon-christian.org/event/running-club-reward-day/
END:VEVENT
END:VCALENDAR