BEGIN:VCALENDAR
VERSION:2.0
PRODID:-//Beacon Christian School - ECPv6.15.20//NONSGML v1.0//EN
CALSCALE:GREGORIAN
METHOD:PUBLISH
X-WR-CALNAME:Beacon Christian School
X-ORIGINAL-URL:https://beacon-christian.org
X-WR-CALDESC:Events for Beacon Christian School
REFRESH-INTERVAL;VALUE=DURATION:PT1H
X-Robots-Tag:noindex
X-PUBLISHED-TTL:PT1H
BEGIN:VTIMEZONE
TZID:America/Los_Angeles
BEGIN:DAYLIGHT
TZOFFSETFROM:-0800
TZOFFSETTO:-0700
TZNAME:PDT
DTSTART:20210314T100000
END:DAYLIGHT
BEGIN:STANDARD
TZOFFSETFROM:-0700
TZOFFSETTO:-0800
TZNAME:PST
DTSTART:20211107T090000
END:STANDARD
BEGIN:DAYLIGHT
TZOFFSETFROM:-0800
TZOFFSETTO:-0700
TZNAME:PDT
DTSTART:20220313T100000
END:DAYLIGHT
BEGIN:STANDARD
TZOFFSETFROM:-0700
TZOFFSETTO:-0800
TZNAME:PST
DTSTART:20221106T090000
END:STANDARD
BEGIN:DAYLIGHT
TZOFFSETFROM:-0800
TZOFFSETTO:-0700
TZNAME:PDT
DTSTART:20230312T100000
END:DAYLIGHT
BEGIN:STANDARD
TZOFFSETFROM:-0700
TZOFFSETTO:-0800
TZNAME:PST
DTSTART:20231105T090000
END:STANDARD
END:VTIMEZONE
BEGIN:VEVENT
DTSTART;TZID=America/Los_Angeles:20220601T080000
DTEND;TZID=America/Los_Angeles:20220601T150000
DTSTAMP:20260423T044826
CREATED:20211018T213431Z
LAST-MODIFIED:20211018T213431Z
UID:911-1654070400-1654095600@beacon-christian.org
SUMMARY:Running Club reward day
DESCRIPTION:
URL:https://beacon-christian.org/event/running-club-reward-day-2/
END:VEVENT
BEGIN:VEVENT
DTSTART;TZID=America/Los_Angeles:20220602T080000
DTEND;TZID=America/Los_Angeles:20220602T120000
DTSTAMP:20260423T044826
CREATED:20211019T021038Z
LAST-MODIFIED:20211019T021038Z
UID:921-1654156800-1654171200@beacon-christian.org
SUMMARY:Minimum day
DESCRIPTION:
URL:https://beacon-christian.org/event/minimum-day-5/
END:VEVENT
BEGIN:VEVENT
DTSTART;TZID=America/Los_Angeles:20220602T190000
DTEND;TZID=America/Los_Angeles:20220602T203000
DTSTAMP:20260423T044826
CREATED:20211018T213557Z
LAST-MODIFIED:20211019T020939Z
UID:913-1654196400-1654201800@beacon-christian.org
SUMMARY:8th grade graduation
DESCRIPTION:
URL:https://beacon-christian.org/event/8th-grade-graduation-minimum-day/
END:VEVENT
BEGIN:VEVENT
DTSTART;TZID=America/Los_Angeles:20220603T080000
DTEND;TZID=America/Los_Angeles:20220603T120000
DTSTAMP:20260423T044826
CREATED:20211018T212333Z
LAST-MODIFIED:20211018T212333Z
UID:476-1654243200-1654257600@beacon-christian.org
SUMMARY:Last day of school
DESCRIPTION:
URL:https://beacon-christian.org/event/last-day-school-2/
END:VEVENT
END:VCALENDAR