BEGIN:VCALENDAR
VERSION:2.0
PRODID:-//Beacon Christian School - ECPv6.15.20//NONSGML v1.0//EN
CALSCALE:GREGORIAN
METHOD:PUBLISH
X-ORIGINAL-URL:https://beacon-christian.org
X-WR-CALDESC:Events for Beacon Christian School
REFRESH-INTERVAL;VALUE=DURATION:PT1H
X-Robots-Tag:noindex
X-PUBLISHED-TTL:PT1H
BEGIN:VTIMEZONE
TZID:America/Los_Angeles
BEGIN:DAYLIGHT
TZOFFSETFROM:-0800
TZOFFSETTO:-0700
TZNAME:PDT
DTSTART:20220313T100000
END:DAYLIGHT
BEGIN:STANDARD
TZOFFSETFROM:-0700
TZOFFSETTO:-0800
TZNAME:PST
DTSTART:20221106T090000
END:STANDARD
BEGIN:DAYLIGHT
TZOFFSETFROM:-0800
TZOFFSETTO:-0700
TZNAME:PDT
DTSTART:20230312T100000
END:DAYLIGHT
BEGIN:STANDARD
TZOFFSETFROM:-0700
TZOFFSETTO:-0800
TZNAME:PST
DTSTART:20231105T090000
END:STANDARD
BEGIN:DAYLIGHT
TZOFFSETFROM:-0800
TZOFFSETTO:-0700
TZNAME:PDT
DTSTART:20240310T100000
END:DAYLIGHT
BEGIN:STANDARD
TZOFFSETFROM:-0700
TZOFFSETTO:-0800
TZNAME:PST
DTSTART:20241103T090000
END:STANDARD
END:VTIMEZONE
BEGIN:VEVENT
DTSTART;VALUE=DATE:20230130
DTEND;VALUE=DATE:20230218
DTSTAMP:20260420T220520
CREATED:20220802T034827Z
LAST-MODIFIED:20220802T034827Z
UID:1067-1675036800-1676678399@beacon-christian.org
SUMMARY:MAP assessments
DESCRIPTION:
URL:https://beacon-christian.org/event/map-assessments-5/
END:VEVENT
BEGIN:VEVENT
DTSTART;VALUE=DATE:20230202
DTEND;VALUE=DATE:20230203
DTSTAMP:20260420T220520
CREATED:20220802T034939Z
LAST-MODIFIED:20220802T034939Z
UID:1069-1675296000-1675382399@beacon-christian.org
SUMMARY:Winter sports day
DESCRIPTION:
URL:https://beacon-christian.org/event/winter-sports-day-14/
END:VEVENT
BEGIN:VEVENT
DTSTART;TZID=America/Los_Angeles:20230206T080000
DTEND;TZID=America/Los_Angeles:20230206T120000
DTSTAMP:20260420T220520
CREATED:20220802T035019Z
LAST-MODIFIED:20220802T035019Z
UID:1071-1675670400-1675684800@beacon-christian.org
SUMMARY:Minimum day
DESCRIPTION:
URL:https://beacon-christian.org/event/minimum-day-8/
END:VEVENT
BEGIN:VEVENT
DTSTART;VALUE=DATE:20230209
DTEND;VALUE=DATE:20230210
DTSTAMP:20260420T220520
CREATED:20220802T035100Z
LAST-MODIFIED:20220802T035100Z
UID:1073-1675900800-1675987199@beacon-christian.org
SUMMARY:Winter sports day
DESCRIPTION:
URL:https://beacon-christian.org/event/winter-sports-day-15/
END:VEVENT
BEGIN:VEVENT
DTSTART;VALUE=DATE:20230220
DTEND;VALUE=DATE:20230221
DTSTAMP:20260420T220520
CREATED:20220802T035320Z
LAST-MODIFIED:20220802T035320Z
UID:1077-1676851200-1676937599@beacon-christian.org
SUMMARY:Presidents' Day (no school)
DESCRIPTION:
URL:https://beacon-christian.org/event/presidents-day-no-school/
END:VEVENT
BEGIN:VEVENT
DTSTART;VALUE=DATE:20230226
DTEND;VALUE=DATE:20230227
DTSTAMP:20260420T220520
CREATED:20220802T035411Z
LAST-MODIFIED:20220802T035411Z
UID:1079-1677369600-1677455999@beacon-christian.org
SUMMARY:NPUC Robotics League Challenge
DESCRIPTION:
URL:https://beacon-christian.org/event/npuc-robotics-league-challenge-2/
END:VEVENT
END:VCALENDAR