BEGIN:VCALENDAR
VERSION:2.0
PRODID:-//Beacon Christian School - ECPv6.15.20//NONSGML v1.0//EN
CALSCALE:GREGORIAN
METHOD:PUBLISH
X-WR-CALNAME:Beacon Christian School
X-ORIGINAL-URL:https://beacon-christian.org
X-WR-CALDESC:Events for Beacon Christian School
REFRESH-INTERVAL;VALUE=DURATION:PT1H
X-Robots-Tag:noindex
X-PUBLISHED-TTL:PT1H
BEGIN:VTIMEZONE
TZID:America/Los_Angeles
BEGIN:DAYLIGHT
TZOFFSETFROM:-0800
TZOFFSETTO:-0700
TZNAME:PDT
DTSTART:20220313T100000
END:DAYLIGHT
BEGIN:STANDARD
TZOFFSETFROM:-0700
TZOFFSETTO:-0800
TZNAME:PST
DTSTART:20221106T090000
END:STANDARD
BEGIN:DAYLIGHT
TZOFFSETFROM:-0800
TZOFFSETTO:-0700
TZNAME:PDT
DTSTART:20230312T100000
END:DAYLIGHT
BEGIN:STANDARD
TZOFFSETFROM:-0700
TZOFFSETTO:-0800
TZNAME:PST
DTSTART:20231105T090000
END:STANDARD
BEGIN:DAYLIGHT
TZOFFSETFROM:-0800
TZOFFSETTO:-0700
TZNAME:PDT
DTSTART:20240310T100000
END:DAYLIGHT
BEGIN:STANDARD
TZOFFSETFROM:-0700
TZOFFSETTO:-0800
TZNAME:PST
DTSTART:20241103T090000
END:STANDARD
END:VTIMEZONE
BEGIN:VEVENT
DTSTART;VALUE=DATE:20230501
DTEND;VALUE=DATE:20230520
DTSTAMP:20260422T061033
CREATED:20220804T010818Z
LAST-MODIFIED:20220804T010818Z
UID:1093-1682899200-1684540799@beacon-christian.org
SUMMARY:MAP assessments
DESCRIPTION:
URL:https://beacon-christian.org/event/map-assessments-6/
END:VEVENT
BEGIN:VEVENT
DTSTART;TZID=America/Los_Angeles:20230508T080000
DTEND;TZID=America/Los_Angeles:20230508T120000
DTSTAMP:20260422T061033
CREATED:20220804T010926Z
LAST-MODIFIED:20220804T010926Z
UID:1095-1683532800-1683547200@beacon-christian.org
SUMMARY:Minimum day
DESCRIPTION:
URL:https://beacon-christian.org/event/minimum-day-9/
END:VEVENT
BEGIN:VEVENT
DTSTART;TZID=America/Los_Angeles:20230525T080000
DTEND;TZID=America/Los_Angeles:20230525T120000
DTSTAMP:20260422T061033
CREATED:20220804T011038Z
LAST-MODIFIED:20220804T011038Z
UID:1097-1685001600-1685016000@beacon-christian.org
SUMMARY:Track and field day
DESCRIPTION:
URL:https://beacon-christian.org/event/track-field-day-3/
END:VEVENT
BEGIN:VEVENT
DTSTART;TZID=America/Los_Angeles:20230526T180000
DTEND;TZID=America/Los_Angeles:20230526T200000
DTSTAMP:20260422T061033
CREATED:20220804T011824Z
LAST-MODIFIED:20220804T011824Z
UID:1099-1685124000-1685131200@beacon-christian.org
SUMMARY:Spring concert/Kindergarten graduation
DESCRIPTION:
URL:https://beacon-christian.org/event/spring-concert-kindergarten-graduation-3/
END:VEVENT
BEGIN:VEVENT
DTSTART;VALUE=DATE:20230529
DTEND;VALUE=DATE:20230530
DTSTAMP:20260422T061033
CREATED:20220804T011910Z
LAST-MODIFIED:20220804T011910Z
UID:1101-1685318400-1685404799@beacon-christian.org
SUMMARY:Memorial Day (no school)
DESCRIPTION:
URL:https://beacon-christian.org/event/memorial-day-no-school/
END:VEVENT
BEGIN:VEVENT
DTSTART;VALUE=DATE:20230530
DTEND;VALUE=DATE:20230531
DTSTAMP:20260422T061033
CREATED:20220804T012028Z
LAST-MODIFIED:20220804T014343Z
UID:1103-1685404800-1685491199@beacon-christian.org
SUMMARY:Running Club reward day
DESCRIPTION:
URL:https://beacon-christian.org/event/running-club-reward-day-3/
END:VEVENT
END:VCALENDAR