BEGIN:VCALENDAR
VERSION:2.0
PRODID:-//Beacon Christian School - ECPv6.15.20//NONSGML v1.0//EN
CALSCALE:GREGORIAN
METHOD:PUBLISH
X-WR-CALNAME:Beacon Christian School
X-ORIGINAL-URL:https://beacon-christian.org
X-WR-CALDESC:Events for Beacon Christian School
REFRESH-INTERVAL;VALUE=DURATION:PT1H
X-Robots-Tag:noindex
X-PUBLISHED-TTL:PT1H
BEGIN:VTIMEZONE
TZID:America/Los_Angeles
BEGIN:DAYLIGHT
TZOFFSETFROM:-0800
TZOFFSETTO:-0700
TZNAME:PDT
DTSTART:20230312T100000
END:DAYLIGHT
BEGIN:STANDARD
TZOFFSETFROM:-0700
TZOFFSETTO:-0800
TZNAME:PST
DTSTART:20231105T090000
END:STANDARD
BEGIN:DAYLIGHT
TZOFFSETFROM:-0800
TZOFFSETTO:-0700
TZNAME:PDT
DTSTART:20240310T100000
END:DAYLIGHT
BEGIN:STANDARD
TZOFFSETFROM:-0700
TZOFFSETTO:-0800
TZNAME:PST
DTSTART:20241103T090000
END:STANDARD
BEGIN:DAYLIGHT
TZOFFSETFROM:-0800
TZOFFSETTO:-0700
TZNAME:PDT
DTSTART:20250309T100000
END:DAYLIGHT
BEGIN:STANDARD
TZOFFSETFROM:-0700
TZOFFSETTO:-0800
TZNAME:PST
DTSTART:20251102T090000
END:STANDARD
END:VTIMEZONE
BEGIN:VEVENT
DTSTART;VALUE=DATE:20240129
DTEND;VALUE=DATE:20240203
DTSTAMP:20260424T154238
CREATED:20230717T034343Z
LAST-MODIFIED:20230717T034343Z
UID:1528-1706486400-1706918399@beacon-christian.org
SUMMARY:MAP testing
DESCRIPTION:
URL:https://beacon-christian.org/event/map-testing-4/
END:VEVENT
BEGIN:VEVENT
DTSTART;VALUE=DATE:20240201
DTEND;VALUE=DATE:20240202
DTSTAMP:20260424T154238
CREATED:20230717T034530Z
LAST-MODIFIED:20230717T034530Z
UID:1534-1706745600-1706831999@beacon-christian.org
SUMMARY:Ski day/Winter sports program
DESCRIPTION:
URL:https://beacon-christian.org/event/ski-day-winter-sports-program-3/
END:VEVENT
BEGIN:VEVENT
DTSTART;VALUE=DATE:20240205
DTEND;VALUE=DATE:20240210
DTSTAMP:20260424T154238
CREATED:20230717T034422Z
LAST-MODIFIED:20230717T034422Z
UID:1530-1707091200-1707523199@beacon-christian.org
SUMMARY:MAP testing
DESCRIPTION:
URL:https://beacon-christian.org/event/map-testing-5/
END:VEVENT
BEGIN:VEVENT
DTSTART;TZID=America/Los_Angeles:20240205T080000
DTEND;TZID=America/Los_Angeles:20240205T120000
DTSTAMP:20260424T154238
CREATED:20230717T034706Z
LAST-MODIFIED:20230717T034735Z
UID:1538-1707120000-1707134400@beacon-christian.org
SUMMARY:Minimum day (staff virtual meeting)
DESCRIPTION:
URL:https://beacon-christian.org/event/minimum-day-staff-virtual-meeting-2/
END:VEVENT
BEGIN:VEVENT
DTSTART;TZID=America/Los_Angeles:20240206T003000
DTEND;TZID=America/Los_Angeles:20240206T020000
DTSTAMP:20260424T154238
CREATED:20230717T035218Z
LAST-MODIFIED:20230717T212947Z
UID:1545-1707179400-1707184800@beacon-christian.org
SUMMARY:Food Bank (Grades 3-8)
DESCRIPTION:
URL:https://beacon-christian.org/event/food-bank-6/
END:VEVENT
BEGIN:VEVENT
DTSTART;VALUE=DATE:20240208
DTEND;VALUE=DATE:20240209
DTSTAMP:20260424T154238
CREATED:20230717T034604Z
LAST-MODIFIED:20230717T034604Z
UID:1536-1707350400-1707436799@beacon-christian.org
SUMMARY:Ski day/Winter sports program
DESCRIPTION:
URL:https://beacon-christian.org/event/ski-day-winter-sports-program-4/
END:VEVENT
BEGIN:VEVENT
DTSTART;VALUE=DATE:20240212
DTEND;VALUE=DATE:20240217
DTSTAMP:20260424T154238
CREATED:20230717T034450Z
LAST-MODIFIED:20230717T034450Z
UID:1532-1707696000-1708127999@beacon-christian.org
SUMMARY:MAP testing
DESCRIPTION:
URL:https://beacon-christian.org/event/map-testing-6/
END:VEVENT
BEGIN:VEVENT
DTSTART;VALUE=DATE:20240219
DTEND;VALUE=DATE:20240220
DTSTAMP:20260424T154238
CREATED:20230717T035330Z
LAST-MODIFIED:20230717T035330Z
UID:1547-1708300800-1708387199@beacon-christian.org
SUMMARY:No school (Presidents' Day)
DESCRIPTION:
URL:https://beacon-christian.org/event/no-school-presidents-day-3/
END:VEVENT
BEGIN:VEVENT
DTSTART;VALUE=DATE:20240225
DTEND;VALUE=DATE:20240226
DTSTAMP:20260424T154238
CREATED:20230717T035426Z
LAST-MODIFIED:20230717T035426Z
UID:1549-1708819200-1708905599@beacon-christian.org
SUMMARY:NPUC Robotics League Challenge (Auburn\, WA)
DESCRIPTION:
URL:https://beacon-christian.org/event/npuc-robotics-league-challenge-auburn-wa/
END:VEVENT
END:VCALENDAR